BEGIN:VCALENDAR
PRODID:-//hacksw/handcal//NONSGML v1.0//EN
VERSION:2.0
METHOD:PUBLISH
BEGIN:VEVENT
DTSTART:20120911T163000Z
DTEND:20120911T180000Z
LOCATION:Summit Club Renaissance Room
UID:674820120911T163000ZOil & Gas Transfers
DTSTAMP:20260425T005158Z
DESCRIPTION:
SUMMARY:Oil & Gas Transfers - Tulsa Estate Planning Forum 
PRIORITY:3
BEGIN:VALARM
TRIGGER:PT18H
ACTION:DISPLAY
DESCRIPTION:Reminder
END:VALARM
END:VEVENT
END:VCALENDAR