BEGIN:VCALENDAR
PRODID:-//hacksw/handcal//NONSGML v1.0//EN
VERSION:2.0
METHOD:PUBLISH
BEGIN:VEVENT
DTSTART:20260309T163000Z
DTEND:20260309T180000Z
LOCATION:DoubleTree Downtown 616 W 7th Street Tulsa 74127
UID:2829920260309T163000ZTop 10 Charitable Financial Planning Strategies: Helping your clients & your business with charitable planning****LIVE WEBINAR WITH Q & A***  ***SPONSORED BY BRANDON AUCTION***
DTSTAMP:20260425T005208Z
DESCRIPTION:\n \n \nSPONSORED BY:\n \n \n \n \n \n \n \n \n \n \n \n \n                                                             \n \n \n \nOur non-profit Spotlight for this month is\n \nClarehouse\n \nKelley Scott, RN, CHPN\n \nExecutive Director\n
SUMMARY:Top 10 Charitable Financial Planning Strategies: Helping your clients & your business with charitable planning****LIVE WEBINAR WITH Q & A***  ***SPONSORED BY BRANDON AUCTION*** - Tulsa Estate Planning Forum 
PRIORITY:3
BEGIN:VALARM
TRIGGER:PT18H
ACTION:DISPLAY
DESCRIPTION:Reminder
END:VALARM
END:VEVENT
END:VCALENDAR