BEGIN:VCALENDAR
PRODID:-//hacksw/handcal//NONSGML v1.0//EN
VERSION:2.0
METHOD:PUBLISH
BEGIN:VEVENT
DTSTART:20241104T173000Z
DTEND:20241104T190000Z
LOCATION:DoubleTree Downtown 616 W. 7th Street Tulsa 74127
UID:2650920241104T173000ZShakespeare, Succession & Estate Planning **SPONSORED by 2B Organized Tulsa (MEMBER ONLY)
DTSTAMP:20260425T004600Z
DESCRIPTION:\n\n \n                             [www.2b-organized.com](https://na01.safelinks.protection.outlook.com/?url=https%3A%2F%2Flinkprotect.cudasvc.com%2Furl%3Fa%3Dhttps%253a%252f%252f2b-organized.com%252f%26c%3DE%2C1%2CMrkWN9L31_8qaUO_9DF3FK7dFbxjZluUUAlD2RAS0f0gbZAw8Do-5oMU01qHmnkt-C3DPIQjuZhalyNhebBLPQYCY7wnKqb7BC02pcPGLA%2C%2C%26typo%3D1&data=05%7C02%7C%7C6ed15eece5544f3718d508dcd8f9d001%7C84df9e7fe9f640afb435aaaaaaaaaaaa%7C1%7C0%7C638623814699886340%7CUnknown%7CTWFpbGZsb3d8eyJWIjoiMC4wLjAwMDAiLCJQIjoiV2luMzIiLCJBTiI6Ik1haWwiLCJXVCI6Mn0%3D%7C0%7C%7C%7C&sdata=I7iWf06AsaDnNr5IXTxQA6%2FImGd1LsFAJcQJ01UXi3s%3D&reserved=0)\n \n                                    Kristin Switzer\n \n \n \n \n \n \n \nLelsie Keifer Amann\n \nLeslie provides consultation and legal advice on planning and fiduciary administration to private clients and Sentinel Trust Company, her former employer. She writes and lectures on related topics for professional organizations in law, accounting, wealth planning, and financial services. She has a JD from the University of Houston Law Center (1987) and a BA in Music and Education from Texas State University (1976).\n \nShe stepped down as Chief Fiduciary Officer at Sentinel after 15 years spent ensuring consistency and best practices in trust administration and serving its wealthiest clients, and those with the most complex fiduciary needs and estate plans. To that role, she brought resources gained from prior fiduciary and banking experience, as a Market Trust Executive over a multi-state region for Bank of America, and as Assistant General Counsel and Trust Officer for a regional bank. Before that, from 1987-1994, Leslie practiced law in Houston in a firm focused on complex business litigation. She was an Adjunct Professor at the University of Houston Law Center from 1988-2000.\n \nLeslie is a Fellow in the American College of Trust and Estate Counsel (ACTEC); a Past Chair of the Houston Bar Association’s Probate, Trust, and Estate Section; a Past President of the Houston Estate and Financial Forum; a Past President of the Houston Business and Estate Planning Council; a past Texas Bankers Association Director; and Past Chair of the TBA Wealth Management & Trust Division Advisory Council. She continues to serve on TBA Inter-Governmental Relations and Education Committees. She is a Sustaining Life Fellow of the Texas Bar Foundation and has been a Member of the Texas Bar College and the Real Estate, Probate and Trust Section for nearly 30 years. She frequently presents continuing education for national, state, and local bar associations, estate planning councils, CPA societies, and various state banking organizations. She has been on faculty for the Texas Bankers Association Trust and Graduate Trust Schools every year since 1997 and has taught at the American Bankers Association Graduate Trust School. An Accredited Estate Planner (AEP) of National Association of Estate Planners and Councils (NAEPC) since 2007, she joined the NAEPC Speakers Bureau in 2014. She is passionate about live theater, history, and a devoted member of several book clubs. Her grandmother name is Gigi.                                  \n
SUMMARY:Shakespeare, Succession & Estate Planning **SPONSORED by 2B Organized Tulsa (MEMBER ONLY) - Tulsa Estate Planning Forum 
PRIORITY:3
BEGIN:VALARM
TRIGGER:PT18H
ACTION:DISPLAY
DESCRIPTION:Reminder
END:VALARM
END:VEVENT
END:VCALENDAR