BEGIN:VCALENDAR
PRODID:-//hacksw/handcal//NONSGML v1.0//EN
VERSION:2.0
METHOD:PUBLISH
BEGIN:VEVENT
DTSTART:20230313T163000Z
DTEND:20230313T180000Z
LOCATION:Double Tree Downtown 616 W. 7th Street Tulsa 74127
UID:2352020230313T163000ZCorporate Transparency Act**SPONSORED by First Call - Jennifer Tyrl
DTSTAMP:20260425T005203Z
DESCRIPTION:\n                         \n \n                                           https://www.my-firstcall.com/\n \n                                                        Jennifer Tyrl\n \n \n \nDavid Boekeloo JD, MST, CFP®, CLU®, CHFC®, AEP®\n \nDavid is an Arvest Wealth Management wealth strategist who provides estate, tax and business planning services to client advisors, trust officers, Arvest clients, and the clients’ professional advisors. His expertise is in estate and income tax planning for high-net-worth and ultra-high-net-worth individuals, business consulting and succession planning for owners of closely held businesses, and executive benefit solutions for key employees of publicly and privately held companies.\n \nDavid has provided tax and legal consulting services to financial advisors, Certified Public Accountants, financial institutions and attorneys since 1998. He meets with clients to review their comprehensive financial planning strategies, and consults with their tax and legal advisors.\n \n \n \nDavid has a law degree, a master’s degree in taxation, and holds the CERTIFIED FINANCIAL PLANNERTM, Chartered Life Underwriter®, Chartered Financial Consultant®, and Accredited Estate Planner® designations. He has written several scholarly articles on various tax and estate planning subjects, and speaks widely at legal, tax, and industry conferences.\n \n \n
SUMMARY:Corporate Transparency Act**SPONSORED by First Call - Jennifer Tyrl - Tulsa Estate Planning Forum 
PRIORITY:3
BEGIN:VALARM
TRIGGER:PT18H
ACTION:DISPLAY
DESCRIPTION:Reminder
END:VALARM
END:VEVENT
END:VCALENDAR