BEGIN:VCALENDAR
PRODID:-//hacksw/handcal//NONSGML v1.0//EN
VERSION:2.0
METHOD:PUBLISH
BEGIN:VEVENT
DTSTART:20210913T163000Z
DTEND:20210913T180000Z
LOCATION:DoubleTree Downtown 616 W. 7th Street Tulsa 74127
UID:2145620210913T163000ZPlanning for Inherited IRAs
DTSTAMP:20260425T005030Z
DESCRIPTION:\n \nChristopher Hoyt is a Professor of Law at the University of Missouri (Kansas City) School of Law where he teaches courses in the area of federal income taxation, charitable organizations and retirement plans.\n \n \nPreviously, he was with the law firm of Spencer, Fane, Britt & Browne in Kansas City, Missouri. He received an undergraduate degree in economics from Northwestern University and he received dual law and accounting degrees from the University of Wisconsin.\n \n  \nProfessor Hoyt is the Vice- Chair of the RPTE Charitable Group and he serves on the editorial board of Trusts and Estates magazine. He is an ACTEC fellow and has been designated by his peers as a "Best Lawyer". He was elected to the Estate Planning Hall of Fame by the National Association of Estate Planners & Councils.
SUMMARY:Planning for Inherited IRAs - Tulsa Estate Planning Forum 
PRIORITY:3
BEGIN:VALARM
TRIGGER:PT18H
ACTION:DISPLAY
DESCRIPTION:Reminder
END:VALARM
END:VEVENT
END:VCALENDAR