BEGIN:VCALENDAR
PRODID:-//hacksw/handcal//NONSGML v1.0//EN
VERSION:2.0
METHOD:PUBLISH
BEGIN:VEVENT
DTSTART:20191014T163000Z
DTEND:20191014T180000Z
LOCATION:Summit Club, 30th Floor (15 W. 6th Street, Tulsa, OK 74119)
UID:1851120191014T163000ZOverview and Planning Opportunities RISA/SECURE ACT
DTSTAMP:20260425T005203Z
DESCRIPTION:\nMember bring a guest meeting\n \nSPONSORED BY:  John Stagg, Managing Partner - New York Life\n \n \n \nR. Matthew Pate, JD, LL.M.\n Corporate Vice President, The Nautilus Group®\n Matthew joined Nautilus in 2004 after receiving his Masters in Law in Taxation from SMU’s Dedman School of Law. He manages the case development unit, which provides Nautilus Members with highly customized client presentations and research and brainstorming support for tax, legal and sales related questions, as well as competition support, executive benefits planning, and custom spreadsheets and analytics.\n Matt has extensive experience in many areas including sophisticated estate planning techniques, business succession planning, tax issues involving closely held corporations, partnerships and LLCs, qualified and non-qualified benefit plans, split dollar insurance arrangements, asset protection strategies, and charitable planning techniques.\n While responsible for managing the case development specialists, Matt is frequently involved in agent consultation and case design, putting a primary emphasis on customizing the presentation to suit the unique circumstances of the case parameters, the agent’s needs, and the client’s objectives.\n Matt received his undergraduate degree from Georgetown University, obtaining a major in three subjects—accounting, finance and international business. He graduated from the University of Texas School of Law in 2001, where he served as Executive Editor of the Texas Review of Law and Politics. While in college and law school, Matt worked for a DC accounting firm, and held clerkships with a large Dallas law firm and the Texas Office of the Attorney General.\n Matt lives in Dallas with his wife, Catherine, and their children, Presley, George and Sam.\n
SUMMARY:Overview and Planning Opportunities RISA/SECURE ACT - Tulsa Estate Planning Forum 
PRIORITY:3
BEGIN:VALARM
TRIGGER:PT18H
ACTION:DISPLAY
DESCRIPTION:Reminder
END:VALARM
END:VEVENT
END:VCALENDAR