BEGIN:VCALENDAR
PRODID:-//hacksw/handcal//NONSGML v1.0//EN
VERSION:2.0
METHOD:PUBLISH
BEGIN:VEVENT
DTSTART:20190114T173000Z
DTEND:20190114T190000Z
LOCATION:The Summit Club, 30th Floor
UID:1681020190114T173000ZEconomic Update**SPONSORED by ALLEN BARROW & BILL GRIMM, Barrow & Grimm, P.C.
DTSTAMP:20260425T005158Z
DESCRIPTION:\nBio:\n \nScott is the Chief Economist and Director of Fixed Income Management with The Commerce Trust Company. He joined Commerce in 1993 and has investment responsibilities for over $21 billion in fixed income assets. Scott directly manages the Commerce Short-Term Government and the flagship Commerce Bond strategies. \n \nPrior to joining Commerce Bank, Scott worked for The Cincinnati Gas and Electric Company, Fifth Third Bank, and ARMCO Inc. Scott received his bachelor of science degree in nuclear engineering from the University of Cincinnati in 1986 and received his master of business administration from Xavier University in 1988. He has been both a director and president of the Chartered Financial Analyst Society of St. Louis.\n
SUMMARY:Economic Update**SPONSORED by ALLEN BARROW & BILL GRIMM, Barrow & Grimm, P.C. - Tulsa Estate Planning Forum 
PRIORITY:3
BEGIN:VALARM
TRIGGER:PT18H
ACTION:DISPLAY
DESCRIPTION:Reminder
END:VALARM
END:VEVENT
END:VCALENDAR