BEGIN:VCALENDAR
PRODID:-//hacksw/handcal//NONSGML v1.0//EN
VERSION:2.0
METHOD:PUBLISH
BEGIN:VEVENT
DTSTART:20180424T213000Z
DTEND:20180424T230000Z
LOCATION:Tom Tom Room @ The Vault located at 620 S. Cincinnati Avenue, Tulsa OK 74119
UID:1606720180424T213000ZSocial & Networking @ The Vault in the Tom Tom Room
DTSTAMP:20260425T005515Z
DESCRIPTION:\nYour Board is hosting a special event 4:30 to 6:00 on Tuesday April 24th to celebrate the end of the tax filing period or anything else you are glad is over.  This is an excellent chance to mingle with members you already know and get to know those you should. \n \nThe event will be held in Tom Tom Room (upstairs) of the Vault restaurant. The Tom Tom room has special significance to TEPF as it was our meeting place when the Forum was started in 1975.  Henry Will, who was our first President and is still a current member, has agreed to share some of his memories as to why and how TEPF got started.\n \nYour Board is hosting the hors d’oeuvres, and we will have a cash bar. \n \nThere is plenty of easy parking either upstairs at the entrance on the 7th street side or downstairs on the 6th street side.\n \n \n
SUMMARY:Social & Networking @ The Vault in the Tom Tom Room - Tulsa Estate Planning Forum 
PRIORITY:3
BEGIN:VALARM
TRIGGER:PT18H
ACTION:DISPLAY
DESCRIPTION:Reminder
END:VALARM
END:VEVENT
END:VCALENDAR