BEGIN:VCALENDAR
PRODID:-//hacksw/handcal//NONSGML v1.0//EN
VERSION:2.0
METHOD:PUBLISH
BEGIN:VEVENT
DTSTART:20170109T173000Z
DTEND:20170109T190000Z
LOCATION:Summit Club, 30th Floor
UID:1370020170109T173000ZEconomic Update
DTSTAMP:20260425T005836Z
DESCRIPTION:\n \n \nJohn Kim\n \nPresident and Chief Investment Officer\n \nNew York Life Insurance Company\n \n \n \nâJohn Kim is President and Chief Investment Officer of New York Life Insurance Company. He is responsible for the business units of the company, which includes the Insurance and Agency Group and the Investments Group, as well as for overseeing the company-wide Technology organization. In his role as Chief Investment Officer, he has ultimate responsibility for management of New York Life’s investments.\n \n \n \nPrior to joining the company in 2008, Mr. Kim was President of Prudential Retirement; President of CIGNA Retirement and Investment Services; and President and Chief Executive Officer of Aeltus Investment Management, a subsidiary of ING Group. He was also the Chief Investment Officer of Aetna Life Insurance and Annuity Company.\n \n \n \nMr. Kim is a CFA® charterholder and holds FINRA Series 7 and 24 registrations. \n \n \n \nEducation\n \nMr. Kim received a bachelor's degree from the University of Michigan and a master's degree in business administration from the University of Connecticut.\n \n \n \n \n \n \n \n \n
SUMMARY:Economic Update - Tulsa Estate Planning Forum 
PRIORITY:3
BEGIN:VALARM
TRIGGER:PT18H
ACTION:DISPLAY
DESCRIPTION:Reminder
END:VALARM
END:VEVENT
END:VCALENDAR