BEGIN:VCALENDAR
PRODID:-//hacksw/handcal//NONSGML v1.0//EN
VERSION:2.0
METHOD:PUBLISH
BEGIN:VEVENT
DTSTART:20140909T163000Z
DTEND:20140909T180000Z
LOCATION: Summit Club, 15 West 6th Street, 31st Floor
UID:1094820140909T163000ZGeorge Kaiser Family Foundation in the Year Ahead
DTSTAMP:20260425T005147Z
DESCRIPTION:\nKenneth J. Levit is the Executive Director of the George Kaiser Family Foundation. Prior to taking on the leadership role at the George Kaiser Family Foundation, Mr. Levit served as President of the University of Oklahoma-Tulsa from 2001 to 2006. From early 1998 through 2000, Mr. Levit was Special Counsel to George Tenet, director of the Central Intelligence Agency. Mr. Levit practiced corporate law at the firm of Crowe and Dunlevy in Tulsa from 1995 to 1998.\n \n Mr. Levit is involved in several civic activities.  He currently serves as chair of Teach For America-Oklahoma and as a member of the Teach For America National Council, chairs the Tulsa Regional Chamber Tulsa’s Future Commission.  Mr. Levit also leads the board of the Woody Guthrie Center in Tulsa, Oklahoma.\n \nMr. Levit earned his law degree from Yale Law School in 1994 and received his undergraduate degree from Brown University in 1987. He is married to Janet Koven Levit of Chicago, Illinois. They have a son, Nathan, and a daughter, Rebecca. \n
SUMMARY:George Kaiser Family Foundation in the Year Ahead - Tulsa Estate Planning Forum 
PRIORITY:3
BEGIN:VALARM
TRIGGER:PT18H
ACTION:DISPLAY
DESCRIPTION:Reminder
END:VALARM
END:VEVENT
END:VCALENDAR